BEGIN:VCALENDAR
VERSION:2.0
PRODID:-//DLR Event - ECPv6.15.13.1//NONSGML v1.0//EN
CALSCALE:GREGORIAN
METHOD:PUBLISH
X-ORIGINAL-URL:https://event.dlr.de
X-WR-CALDESC:Veranstaltungen für DLR Event
REFRESH-INTERVAL;VALUE=DURATION:PT1H
X-Robots-Tag:noindex
X-PUBLISHED-TTL:PT1H
BEGIN:VTIMEZONE
TZID:Europe/Berlin
BEGIN:DAYLIGHT
TZOFFSETFROM:+0100
TZOFFSETTO:+0200
TZNAME:CEST
DTSTART:20170326T010000
END:DAYLIGHT
BEGIN:STANDARD
TZOFFSETFROM:+0200
TZOFFSETTO:+0100
TZNAME:CET
DTSTART:20171029T010000
END:STANDARD
BEGIN:DAYLIGHT
TZOFFSETFROM:+0100
TZOFFSETTO:+0200
TZNAME:CEST
DTSTART:20180325T010000
END:DAYLIGHT
BEGIN:STANDARD
TZOFFSETFROM:+0200
TZOFFSETTO:+0100
TZNAME:CET
DTSTART:20181028T010000
END:STANDARD
BEGIN:DAYLIGHT
TZOFFSETFROM:+0100
TZOFFSETTO:+0200
TZNAME:CEST
DTSTART:20190331T010000
END:DAYLIGHT
BEGIN:STANDARD
TZOFFSETFROM:+0200
TZOFFSETTO:+0100
TZNAME:CET
DTSTART:20191027T010000
END:STANDARD
END:VTIMEZONE
BEGIN:VEVENT
DTSTART;TZID=Europe/Berlin:20180919T111500
DTEND;TZID=Europe/Berlin:20180921T150000
DTSTAMP:20260422T194852
CREATED:20180403T135243Z
LAST-MODIFIED:20180404T102214Z
UID:10001858-1537355700-1537542000@event.dlr.de
SUMMARY:{:de}the 5th International Summer School on Aerogels{:}{:en}the 5th International Summer School on Aerogels{:}
DESCRIPTION:Die Abteilung „Aerogele“ des Deutschen Zentrums für Luft- und Raumfahrt e.V. organisiert vom 19. bis 21. September 2018 the 5th International Summer School on Aerogels in Köln.\nAerogele sind offenporige Materialien\, die über einen Sol-Gel Prozess hergestellt werden. Sie zeichnen sich durch eine hohe Oberfläche von bis zu 2000 m2/g\, niedrige Dichte von 0\,05-0\,1 g/cm3 und niedrige Wärmeleitfähigkeit im Bereich von 5-20 mW/mK aus. Im Rahmen des Workshops werden Studenten\, Doktoranden\, Postdocs\, sowie Industrieteilnehmer organische (Resorcin-Formaldehyd)\, anorganische (Silica) und Bio (Cellulose\, Chitin) Aerogele kennenlernen. Die von den Teilnehmern hergestellten Aerogele werden in diesem Workshop charakterisiert und mit unterschiedlichen Methoden untersucht.\nDer Workshop wird zusammen mit der Technischen Universität Hamburg-Harburg\, Empa (Schweiz) und Universität Salzburg (Österreich) organisiert.
URL:https://event.dlr.de/event/the-5th-international-summer-school-on-aerogels/
LOCATION:Institut für Werkstoff-Forschung – Aerogele\, Linder Hoehe \, Koeln\, NRW\, 51147\, Deutschland
CATEGORIES:Workshop
ATTACH;FMTTYPE=image/jpeg:https://event.dlr.de/wp-content/uploads/2018/04/header-neu-2.jpg
ORGANIZER;CN="Dr. Barbara Milow":MAILTO:Aerogels@dlr.de
END:VEVENT
END:VCALENDAR