BEGIN:VCALENDAR
VERSION:2.0
PRODID:-//DLR Event - ECPv6.15.13.1//NONSGML v1.0//EN
CALSCALE:GREGORIAN
METHOD:PUBLISH
X-WR-CALNAME:DLR Event
X-ORIGINAL-URL:https://event.dlr.de
X-WR-CALDESC:Veranstaltungen für DLR Event
REFRESH-INTERVAL;VALUE=DURATION:PT1H
X-Robots-Tag:noindex
X-PUBLISHED-TTL:PT1H
BEGIN:VTIMEZONE
TZID:Europe/Berlin
BEGIN:DAYLIGHT
TZOFFSETFROM:+0100
TZOFFSETTO:+0200
TZNAME:CEST
DTSTART:20170326T010000
END:DAYLIGHT
BEGIN:STANDARD
TZOFFSETFROM:+0200
TZOFFSETTO:+0100
TZNAME:CET
DTSTART:20171029T010000
END:STANDARD
BEGIN:DAYLIGHT
TZOFFSETFROM:+0100
TZOFFSETTO:+0200
TZNAME:CEST
DTSTART:20180325T010000
END:DAYLIGHT
BEGIN:STANDARD
TZOFFSETFROM:+0200
TZOFFSETTO:+0100
TZNAME:CET
DTSTART:20181028T010000
END:STANDARD
BEGIN:DAYLIGHT
TZOFFSETFROM:+0100
TZOFFSETTO:+0200
TZNAME:CEST
DTSTART:20190331T010000
END:DAYLIGHT
BEGIN:STANDARD
TZOFFSETFROM:+0200
TZOFFSETTO:+0100
TZNAME:CET
DTSTART:20191027T010000
END:STANDARD
END:VTIMEZONE
BEGIN:VEVENT
DTSTART;VALUE=DATE:20181107
DTEND;VALUE=DATE:20181110
DTSTAMP:20260422T051820
CREATED:20180906T164827Z
LAST-MODIFIED:20180925T155301Z
UID:10001871-1541548800-1541807999@event.dlr.de
SUMMARY:{:de}25. Berliner EVA Konferenz: DIGITAL TWINS{:}{:en}25th Berlin EVA Conference: DIGITAL TWINS{:}
DESCRIPTION:Die 25. EVA Berlin Konferenz (Electronic Media & Visual Arts) fokussiert den Spannungsbogen zwischen materiellem Kulturerbe und virtueller Repräsentanz. „Digitale Zwillinge“ verändern die Praxis des Kuratierens\, der wissenschaftlichen Dokumentation und der Vermittlung. Sie begründen breitere Zugänge zu den Sammlungsbeständen und innovative Verfahren der Visualisierung und Narration. Als E-Installations oder Streamingdienste sichern sie den performativen Künsten Dauer und ermöglichen originale Klangerlebnisse in der digitalen Konzerthalle. \nDie Konferenz wird aktuelle Positionen und praxisnahe Anwendungsbeispiele zu diesen Themen in Museen\, Bibliotheken\, Archiven und Verbünden vorstellen. Konkrete Verfahren\, innovative Produkte und Kooperationsprojekte werden auf der Poster Session ausgestellt.
URL:https://event.dlr.de/event/25-berliner-eva-konferenz-digital-twins/
LOCATION:Kulturforum Potsdamer Platz\, Matthäikirchplatz 8\, Berlin\, 10785\, Ghana
CATEGORIES:Konferenz
ATTACH;FMTTYPE=image/jpeg:https://event.dlr.de/wp-content/uploads/2018/09/Thronsaal_klein.jpg
END:VEVENT
END:VCALENDAR