BEGIN:VCALENDAR
VERSION:2.0
PRODID:-//DLR Event - ECPv6.15.13.1//NONSGML v1.0//EN
CALSCALE:GREGORIAN
METHOD:PUBLISH
X-WR-CALNAME:DLR Event
X-ORIGINAL-URL:https://event.dlr.de
X-WR-CALDESC:Veranstaltungen für DLR Event
REFRESH-INTERVAL;VALUE=DURATION:PT1H
X-Robots-Tag:noindex
X-PUBLISHED-TTL:PT1H
BEGIN:VTIMEZONE
TZID:Europe/Berlin
BEGIN:DAYLIGHT
TZOFFSETFROM:+0100
TZOFFSETTO:+0200
TZNAME:CEST
DTSTART:20170326T010000
END:DAYLIGHT
BEGIN:STANDARD
TZOFFSETFROM:+0200
TZOFFSETTO:+0100
TZNAME:CET
DTSTART:20171029T010000
END:STANDARD
BEGIN:DAYLIGHT
TZOFFSETFROM:+0100
TZOFFSETTO:+0200
TZNAME:CEST
DTSTART:20180325T010000
END:DAYLIGHT
BEGIN:STANDARD
TZOFFSETFROM:+0200
TZOFFSETTO:+0100
TZNAME:CET
DTSTART:20181028T010000
END:STANDARD
BEGIN:DAYLIGHT
TZOFFSETFROM:+0100
TZOFFSETTO:+0200
TZNAME:CEST
DTSTART:20190331T010000
END:DAYLIGHT
BEGIN:STANDARD
TZOFFSETFROM:+0200
TZOFFSETTO:+0100
TZNAME:CET
DTSTART:20191027T010000
END:STANDARD
END:VTIMEZONE
BEGIN:VEVENT
DTSTART;TZID=Europe/Berlin:20180909T080000
DTEND;TZID=Europe/Berlin:20180914T183000
DTSTAMP:20260422T185746
CREATED:20180302T140159Z
LAST-MODIFIED:20180419T122851Z
UID:10002216-1536480000-1536949800@event.dlr.de
SUMMARY:{:de}11th International Symposium on Special Topics in Chemical Propulsion & Energetic Materials (11-ISICP){:}{:en}11th International Symposium on Special Topics in Chemical Propulsion & Energetic Materials (11-ISICP){:}
DESCRIPTION:Diese hochrenommierte wissenschaftliche Konferenz ist fokussiert auf Forschung und Technologieentwicklung im gesamten Bereich Treibstoffe und energetische Materialien. Sie dient als Plattform für \n\nKommunikation und Netzwerkbildung zwischen den Teilnehmern in Bezug auf den aktuellen Stand der Technik im Bereich energetischer Materialien wie Treibstoffe\, explosionsfähige und pyrotechnische Stoffe\, Brennstoff- und/oder Oxidator-Bestandteile\, etc.\ndie Diskussion über neue und verbesserte Sicherheitstechniken in der Verbrennung und der Handhabung von energetischen Materialien\, auch in Bezug auf Umweltaspekte sowie gesetzliche Anforderungen und Bestimmungen\ndie Diskussion und Empfehlungen für zukünftige Richtungen in der Forschung zu Verbrennungsprozesse\, Antriebe und chemischer Reaktionssysteme.
URL:https://event.dlr.de/event/11th-international-symposium-on-special-topics-in-chemical-propulsion-energetic-materials-11-isicp/
LOCATION:LE MERIDIEN STUTTGART\, Willy-Brandt-Strasse 30\, Stuttgart\, 70173
CATEGORIES:Konferenz
ATTACH;FMTTYPE=image/jpeg:https://event.dlr.de/wp-content/uploads/2018/03/10012018_Vulcain_2_1_3.jpg
ORGANIZER;CN="Herr Dr.-Ing. Helmut K. Ciezki":MAILTO:ISICP2018@dlr.de
END:VEVENT
END:VCALENDAR