BEGIN:VCALENDAR
VERSION:2.0
PRODID:-//DLR Event - ECPv6.15.13.1//NONSGML v1.0//EN
CALSCALE:GREGORIAN
METHOD:PUBLISH
X-WR-CALNAME:DLR Event
X-ORIGINAL-URL:https://event.dlr.de
X-WR-CALDESC:Veranstaltungen für DLR Event
REFRESH-INTERVAL;VALUE=DURATION:PT1H
X-Robots-Tag:noindex
X-PUBLISHED-TTL:PT1H
BEGIN:VTIMEZONE
TZID:Europe/Berlin
BEGIN:DAYLIGHT
TZOFFSETFROM:+0100
TZOFFSETTO:+0200
TZNAME:CEST
DTSTART:20150329T010000
END:DAYLIGHT
BEGIN:STANDARD
TZOFFSETFROM:+0200
TZOFFSETTO:+0100
TZNAME:CET
DTSTART:20151025T010000
END:STANDARD
BEGIN:DAYLIGHT
TZOFFSETFROM:+0100
TZOFFSETTO:+0200
TZNAME:CEST
DTSTART:20160327T010000
END:DAYLIGHT
BEGIN:STANDARD
TZOFFSETFROM:+0200
TZOFFSETTO:+0100
TZNAME:CET
DTSTART:20161030T010000
END:STANDARD
BEGIN:DAYLIGHT
TZOFFSETFROM:+0100
TZOFFSETTO:+0200
TZNAME:CEST
DTSTART:20170326T010000
END:DAYLIGHT
BEGIN:STANDARD
TZOFFSETFROM:+0200
TZOFFSETTO:+0100
TZNAME:CET
DTSTART:20171029T010000
END:STANDARD
END:VTIMEZONE
BEGIN:VEVENT
DTSTART;VALUE=DATE:20160223
DTEND;VALUE=DATE:20160226
DTSTAMP:20260425T020441
CREATED:20160212T121027Z
LAST-MODIFIED:20160212T124336Z
UID:10002148-1456185600-1456444799@event.dlr.de
SUMMARY:Angewandte Forschung für Verteidigung und Sicherheit in Deutschland
DESCRIPTION:Im Februar 2016 geht die nationale Konferenzreihe „Angewandte Forschung für Verteidigung und Sicherheit in Deutschland“ in ihre zweite Auflage. „Zukunft durch Forschung und Technologie gestalten“ gilt dabei als Leitsatz für die Tagungsinhalte. Wie auch 2014 wird die inhaltliche Gestaltung der Tagung gemeinsam durch das Bundesministerium der Verteidigung\, den Fraunhofer Verbund Sicherheit und Verteidigung\, das Deutsche Zentrum für Luft- und Raumfahrt sowie die Studiengesellschaft der Deutschen Gesellschaft für Wehrtechnik übernommen. Die Konferenz richtet sich an Angehörige der Wissenschaft\, der Bundeswehr\, des Öffentlichen Dienstes\, der Parlamente und Ministerien und der Wirtschaft aus Deutschland. Das Plenumsprogramm der Tagung im Maritim Hotel Bonn wird durch Panel- und Poster-Sessions erweitert. \nAnsprechpartner: \nDr. Dennis Göge\nDeutsches Zentrum für Luft- und Raumfahrt (DLR)\nTel.: +49 2203 601-4031
URL:https://event.dlr.de/event/angewandte-forschung-fuer-verteidigung-und-sicherheit-in-deutschland/
LOCATION:Maritim Hotel Bonn\, Kurt-Georg-Kiesinger-Allee 1\, Bonn\, 53175\, Deutschland
CATEGORIES:Konferenz
GEO:50.7048384;7.1348501
X-APPLE-STRUCTURED-LOCATION;VALUE=URI;X-ADDRESS=Maritim Hotel Bonn Kurt-Georg-Kiesinger-Allee 1 Bonn 53175 Deutschland;X-APPLE-RADIUS=500;X-TITLE=Kurt-Georg-Kiesinger-Allee 1:geo:7.1348501,50.7048384
END:VEVENT
END:VCALENDAR