BEGIN:VCALENDAR
VERSION:2.0
PRODID:-//DLR Event - ECPv6.15.13.1//NONSGML v1.0//EN
CALSCALE:GREGORIAN
METHOD:PUBLISH
X-ORIGINAL-URL:https://event.dlr.de
X-WR-CALDESC:Veranstaltungen für DLR Event
REFRESH-INTERVAL;VALUE=DURATION:PT1H
X-Robots-Tag:noindex
X-PUBLISHED-TTL:PT1H
BEGIN:VTIMEZONE
TZID:Europe/Berlin
BEGIN:DAYLIGHT
TZOFFSETFROM:+0100
TZOFFSETTO:+0200
TZNAME:CEST
DTSTART:20180325T010000
END:DAYLIGHT
BEGIN:STANDARD
TZOFFSETFROM:+0200
TZOFFSETTO:+0100
TZNAME:CET
DTSTART:20181028T010000
END:STANDARD
BEGIN:DAYLIGHT
TZOFFSETFROM:+0100
TZOFFSETTO:+0200
TZNAME:CEST
DTSTART:20190331T010000
END:DAYLIGHT
BEGIN:STANDARD
TZOFFSETFROM:+0200
TZOFFSETTO:+0100
TZNAME:CET
DTSTART:20191027T010000
END:STANDARD
BEGIN:DAYLIGHT
TZOFFSETFROM:+0100
TZOFFSETTO:+0200
TZNAME:CEST
DTSTART:20200329T010000
END:DAYLIGHT
BEGIN:STANDARD
TZOFFSETFROM:+0200
TZOFFSETTO:+0100
TZNAME:CET
DTSTART:20201025T010000
END:STANDARD
END:VTIMEZONE
BEGIN:VTIMEZONE
TZID:Asia/Dubai
BEGIN:STANDARD
TZOFFSETFROM:+0400
TZOFFSETTO:+0400
TZNAME:+04
DTSTART:20160101T000000
END:STANDARD
END:VTIMEZONE
BEGIN:VEVENT
DTSTART;VALUE=DATE:20190319
DTEND;VALUE=DATE:20190322
DTSTAMP:20260422T005116
CREATED:20181121T133921Z
LAST-MODIFIED:20190130T164039Z
UID:10001879-1552953600-1553212799@event.dlr.de
SUMMARY:{:de}Global Space Congress 2019{:}{:en}Global Space Congress 2019{:}
DESCRIPTION:Bild: UAE Space Agency \nDer Global Space Congress (GSC) ist ein Strategie-Treffen der Spitzenkräfte der globalen Raumfahrt in Abu Dhabi. Er bringt die wichtigsten öffentlichen und privaten Akteure zusammen mit dem Ziel\, die besten Chancen im Raumfahrtsektor zu bewerten und die neuesten Raumfahrtprogramme kennen zu lernen. \nDer GSC ist Gastgeber für Diskussionen und Initiativen\, die einen praktischen und nachhaltigen Einfluss auf die gesamte Entwicklung des Raumfahrtsektors – im Mittleren Osten und darüber hinaus – haben. Aus dem Global Space And Satellites Forum heraus hat sich der GSC zu einem wichtigen Treffen der weltweiten Raumfahrtindustrie entwickelt und findet inzwischen zum siebenten Mal statt. Über 600 Experten nehmen am GSC teil: Leiter von Raumfahrtagenturen\, Geschäftsführer führender Raumfahrtfirmen\, hohe Regierungsbeamte sowie Spitzen-Forscher und -Lehrer. \nDas DLR ist 2019 wieder mit einem eigenen Ausstellungsstand bei dieser Veranstaltung vertreten.
URL:https://event.dlr.de/event/global-space-congress-2019/
LOCATION:The St. Regis Saadiyat Island Resort\, Saadiyat Island\, P.O. Box 54345\, Abu Dhabi\, United Arab Emirates\, Vereinigte Arabische Emirate
CATEGORIES:Kongress
ATTACH;FMTTYPE=image/jpeg:https://event.dlr.de/wp-content/uploads/2018/11/a00378b41d784aae9f195223841ea33a.jpg
GEO:24.5302924;54.4451578
X-APPLE-STRUCTURED-LOCATION;VALUE=URI;X-ADDRESS=The St. Regis Saadiyat Island Resort Saadiyat Island P.O. Box 54345 Abu Dhabi United Arab Emirates Vereinigte Arabische Emirate;X-APPLE-RADIUS=500;X-TITLE=Saadiyat Island\, P.O. Box 54345:geo:54.4451578,24.5302924
END:VEVENT
BEGIN:VEVENT
DTSTART;VALUE=DATE:20170131
DTEND;VALUE=DATE:20170202
DTSTAMP:20260422T005116
CREATED:20161223T151253Z
LAST-MODIFIED:20170130T111038Z
UID:10002177-1485820800-1485993599@event.dlr.de
SUMMARY:{:de}Global Space Congress{:}{:en}Global Space Congress{:}
DESCRIPTION:Copyright: Global Space Congress \nDer Global Space Congress (GSC) ist ein Strategie-Treffen der Spitzenkräfte der globalen Raumfahrt in Abu Dhabi. Er bringt die wichtigsten öffentlichen und privaten Akteure zusammen mit dem Ziel\, die besten Chancen im Raumfahrtsektor zu bewerten und die neuesten Raumfahrtprogramme kennenzulernen. \nDer GSC ist Gastgeber für Diskussionen und Initiativen\, die einen praktischen und nachhaltigen Einfluss auf die gesamte Entwicklung des Raumfahrtsektors – im Mittleren Osten und darüber hinaus – haben. Aus dem Global Space And Satellites Forum heraus hat sich der GSC zu einem wichtigen Treffen der weltweiten Raumfahrtindustrie entwickelt und findet inzwischen zum sechsten Mal statt. Über 600 Experten nehmen am GSC teil: Leiter von Raumfahrtagenturen\, Geschäftsführer führender Raumfahrtfirmen\, hohe Regierungsbeamte sowie Spitzen-Forscher und -Lehrer.  \nDas DLR ist 2017 zum ersten Mal mit einem eigenen Ausstellungsstand sowie mit Keynotes seiner Vorstandsvorsitzenden Prof. Pascale Ehrenfreund sowie seines für das Raumfahrtmanagement zuständigen Vorstandes Dr. Gerd Gruppe beim GSC vertreten.
URL:https://event.dlr.de/event/global-space-congress/
LOCATION:The St. Regis Saadiyat Island Resort\, Saadiyat Island\, P.O. Box 54345\, Abu Dhabi\, United Arab Emirates\, Vereinigte Arabische Emirate
CATEGORIES:Kongress
GEO:24.5302924;54.4451578
X-APPLE-STRUCTURED-LOCATION;VALUE=URI;X-ADDRESS=The St. Regis Saadiyat Island Resort Saadiyat Island P.O. Box 54345 Abu Dhabi United Arab Emirates Vereinigte Arabische Emirate;X-APPLE-RADIUS=500;X-TITLE=Saadiyat Island\, P.O. Box 54345:geo:54.4451578,24.5302924
END:VEVENT
END:VCALENDAR