BEGIN:VCALENDAR
VERSION:2.0
PRODID:-//DLR Event - ECPv6.15.13.1//NONSGML v1.0//EN
CALSCALE:GREGORIAN
METHOD:PUBLISH
X-WR-CALNAME:DLR Event
X-ORIGINAL-URL:https://event.dlr.de
X-WR-CALDESC:Veranstaltungen für DLR Event
REFRESH-INTERVAL;VALUE=DURATION:PT1H
X-Robots-Tag:noindex
X-PUBLISHED-TTL:PT1H
BEGIN:VTIMEZONE
TZID:Europe/Berlin
BEGIN:DAYLIGHT
TZOFFSETFROM:+0100
TZOFFSETTO:+0200
TZNAME:CEST
DTSTART:20220327T010000
END:DAYLIGHT
BEGIN:STANDARD
TZOFFSETFROM:+0200
TZOFFSETTO:+0100
TZNAME:CET
DTSTART:20221030T010000
END:STANDARD
BEGIN:DAYLIGHT
TZOFFSETFROM:+0100
TZOFFSETTO:+0200
TZNAME:CEST
DTSTART:20230326T010000
END:DAYLIGHT
BEGIN:STANDARD
TZOFFSETFROM:+0200
TZOFFSETTO:+0100
TZNAME:CET
DTSTART:20231029T010000
END:STANDARD
BEGIN:DAYLIGHT
TZOFFSETFROM:+0100
TZOFFSETTO:+0200
TZNAME:CEST
DTSTART:20240331T010000
END:DAYLIGHT
BEGIN:STANDARD
TZOFFSETFROM:+0200
TZOFFSETTO:+0100
TZNAME:CET
DTSTART:20241027T010000
END:STANDARD
END:VTIMEZONE
BEGIN:VEVENT
DTSTART;VALUE=DATE:20230513
DTEND;VALUE=DATE:20230522
DTSTAMP:20260424T052335
CREATED:20230510T090359Z
LAST-MODIFIED:20230510T125424Z
UID:10003437-1683936000-1684713599@event.dlr.de
SUMMARY:Interurban Vehicle auf der Powerfuel Week in Luzern
DESCRIPTION:Auf langen Strecken nachhaltig und bequem unterwegs – mit dem Interurban Vehicle (IUV) zeigt das Deutsche Zentrum für Luft- und Raumfahrt (DLR) auf der Powerfuel Week 2023 ein zukunftsweisendes Konzept für den automobilen Reisekomfort. Die IUV-Limousine soll autonomes und emissionsfreies Fahren über Strecken von bis zu 1.000 Kilometern ermöglichen. Dazu kombiniert das fünfsitzige IUV einen Wasserstoffantrieb mit innovativem Energiemanagement. Mit Leichtbaumaterialen und innovative Bauweisen vereint das IUV einen ressourcenschonenden Energieverbrauch mit einem sehr hohem Insassenschutz. \nDie Powerfuel Week ist eine Fachveranstaltung für Verbände\, Bundesinstitutionen\, Industrie und Wissenschaft zum Thema alternativer Energiesysteme.  Hochkarätige nationale und internationale Referentinnen und Referenten stellen Technologien und Lösungen für die Mobilität der Zukunft vor. Die Veranstaltung findet vom 13. bis 21. Mai 2023 im Verkehrshaus der Schweiz in Luzern statt. Zu den Vorträgen gibt es eine begleitende Ausstellung mit einem überdachten Outdoorbereich für Fachbesucherinnen und -besucher sowie interessiertem Publikum. \nDie Powerfuel Week finden findet täglich von 10.00 bis 18 Uhr statt. Weite Informationen finden Sie hier
URL:https://event.dlr.de/event/interurban-vehicle-auf-der-powerfuel-week-in-luzern/
LOCATION:Verkehrshaus der Schweiz\, Lidostrasse 5\, Luzern\, 6006\, Schweiz
ATTACH;FMTTYPE=image/jpeg:https://event.dlr.de/wp-content/uploads/2023/05/PW2023_Signatur_Sale.jpg
END:VEVENT
END:VCALENDAR